BEGIN:VCALENDAR
VERSION:2.0
PRODID:spatie/icalendar-generator
DESCRIPTION:Evenementen van Amfitheater Amersfoort
X-WR-CALDESC:Evenementen van Amfitheater Amersfoort
REFRESH-INTERVAL;VALUE=DURATION:PT1440M
X-PUBLISHED-TTL:PT1440M
BEGIN:VTIMEZONE
TZID:Etc/GMT+0
BEGIN:STANDARD
DTSTART:20250924T143000Z
TZOFFSETFROM:+0000
TZOFFSETTO:+0000
END:STANDARD
END:VTIMEZONE
BEGIN:VTIMEZONE
TZID:UTC
BEGIN:STANDARD
DTSTART:20250727T114139Z
TZOFFSETFROM:+0000
TZOFFSETTO:+0000
END:STANDARD
END:VTIMEZONE
BEGIN:VEVENT
UID:17-8
DTSTAMP:20260423T114139Z
SUMMARY:Sixties Generation en .......
LOCATION:Amfitheater Amersfoort Het Masker  Amersfoort  3822NC
ORGANIZER;CN=Stichting Ashok Bhalotra:MAILTO:info@amfitheateramersfoort.nl
DTSTART;TZID=Etc/GMT+0:20260621T143000
DTEND;TZID=Etc/GMT+0:20260621T173000
X-ALT-DESC;FMTTYPE=TEXT/HTML:[caption id=\"attachment_641\" align=\"alignno
 ne\" width=\"300\"] FdmaFotografie[/caption]
CATEGORIES:Live Muziek
URL;VALUE=URI:https://www.amfitheateramersfoort.nl/mc-events/sixties-genera
 tion-en/
METHOD:PUBLISH
END:VEVENT
END:VCALENDAR